BEGIN:VCALENDAR
VERSION:2.0
PRODID:-//Dance CoLAB - ECPv6.15.20//NONSGML v1.0//EN
CALSCALE:GREGORIAN
METHOD:PUBLISH
X-WR-CALNAME:Dance CoLAB
X-ORIGINAL-URL:https://thedancecolab.com
X-WR-CALDESC:Events for Dance CoLAB
REFRESH-INTERVAL;VALUE=DURATION:PT1H
X-Robots-Tag:noindex
X-PUBLISHED-TTL:PT1H
BEGIN:VTIMEZONE
TZID:America/Indiana/Indianapolis
BEGIN:DAYLIGHT
TZOFFSETFROM:-0500
TZOFFSETTO:-0400
TZNAME:EDT
DTSTART:20230312T070000
END:DAYLIGHT
BEGIN:STANDARD
TZOFFSETFROM:-0400
TZOFFSETTO:-0500
TZNAME:EST
DTSTART:20231105T060000
END:STANDARD
BEGIN:DAYLIGHT
TZOFFSETFROM:-0500
TZOFFSETTO:-0400
TZNAME:EDT
DTSTART:20240310T070000
END:DAYLIGHT
BEGIN:STANDARD
TZOFFSETFROM:-0400
TZOFFSETTO:-0500
TZNAME:EST
DTSTART:20241103T060000
END:STANDARD
BEGIN:DAYLIGHT
TZOFFSETFROM:-0500
TZOFFSETTO:-0400
TZNAME:EDT
DTSTART:20250309T070000
END:DAYLIGHT
BEGIN:STANDARD
TZOFFSETFROM:-0400
TZOFFSETTO:-0500
TZNAME:EST
DTSTART:20251102T060000
END:STANDARD
END:VTIMEZONE
BEGIN:VEVENT
DTSTART;TZID=America/Indiana/Indianapolis:20240330T180000
DTEND;TZID=America/Indiana/Indianapolis:20240330T210000
DTSTAMP:20260423T133459
CREATED:20240328T011716Z
LAST-MODIFIED:20240329T052356Z
UID:10000022-1711821600-1711832400@thedancecolab.com
SUMMARY:Purdue Westies West Coast Swing Dance Party 03/30/2024
DESCRIPTION:DJ\, beginner workshop and social dancing! Get ready to groove at out West Coast Swing Dance party! Join us\, for a night of infectious beats\, spontaneous moves\, and a vibrant dance community. No experience required – just bring your energy and let’s create unforgettable memories on the dance floor. Se you there for a swingin’ good time! \nFree to the open public! Non-Purdue attendees: please RSVP on our socials so we can ensure free entrance! \n \n  \n  \n  \n  \nA PurdueWestCoastSwingPWCS event
URL:https://thedancecolab.com/eventcalender/west-coast-swing-dance-party-03-30-2024/
LOCATION:Purdue Westies\, 610 purdue mall\, West Lafayette\, IN\, 47907\, United States
CATEGORIES:Community Event,Purdue Westies
ATTACH;FMTTYPE=image/webp:https://thedancecolab.com/wp-content/uploads/2024/03/West_Lafeyette_Event_poster.webp
END:VEVENT
END:VCALENDAR