BEGIN:VCALENDAR
VERSION:2.0
PRODID:-//Dance CoLAB - ECPv6.15.20//NONSGML v1.0//EN
CALSCALE:GREGORIAN
METHOD:PUBLISH
X-ORIGINAL-URL:https://thedancecolab.com
X-WR-CALDESC:Events for Dance CoLAB
REFRESH-INTERVAL;VALUE=DURATION:PT1H
X-Robots-Tag:noindex
X-PUBLISHED-TTL:PT1H
BEGIN:VTIMEZONE
TZID:America/Indiana/Indianapolis
BEGIN:DAYLIGHT
TZOFFSETFROM:-0500
TZOFFSETTO:-0400
TZNAME:EDT
DTSTART:20240310T070000
END:DAYLIGHT
BEGIN:STANDARD
TZOFFSETFROM:-0400
TZOFFSETTO:-0500
TZNAME:EST
DTSTART:20241103T060000
END:STANDARD
BEGIN:DAYLIGHT
TZOFFSETFROM:-0500
TZOFFSETTO:-0400
TZNAME:EDT
DTSTART:20250309T070000
END:DAYLIGHT
BEGIN:STANDARD
TZOFFSETFROM:-0400
TZOFFSETTO:-0500
TZNAME:EST
DTSTART:20251102T060000
END:STANDARD
BEGIN:DAYLIGHT
TZOFFSETFROM:-0500
TZOFFSETTO:-0400
TZNAME:EDT
DTSTART:20260308T070000
END:DAYLIGHT
BEGIN:STANDARD
TZOFFSETFROM:-0400
TZOFFSETTO:-0500
TZNAME:EST
DTSTART:20261101T060000
END:STANDARD
END:VTIMEZONE
BEGIN:VEVENT
DTSTART;TZID=America/Indiana/Indianapolis:20250606T190000
DTEND;TZID=America/Indiana/Indianapolis:20250606T220000
DTSTAMP:20260423T154108
CREATED:20250603T180519Z
LAST-MODIFIED:20250606T165810Z
UID:10000066-1749236400-1749247200@thedancecolab.com
SUMMARY:Friday Dance : First Law Fundamentals 06/06/2025
DESCRIPTION:The best dancers don’t just move — they understand how to stay in motion.\n\nAgenda:\n🕖 7:00 – 8:00pm – West Coast Swing LessonEvery great dancer starts somewhere\, and First Law Fundamentals is your launchpad into the world of West Coast Swing! 🚀 We’ll introduce you to the fundamental physics of WCS\, helping you develop a strong foundation in posture\, connection\, and lead-follow dynamics. Whether you’re taking your first steps or refining your basics\, we’ll give you the tools to build effortless movement and musicality from the ground up. \n✨ No partner? No problem! Come solo or bring a friend — we rotate partners during the lesson\, so everyone gets a chance to dance and connect! 🤝 \n🕗 8:00 – 10:30pm – Social DanceThe floor is yours! 🎶 Put your new skills into action and dance the night away with a welcoming community of Westies. Our DJ spins a vibrant mix of music that keeps you inspired — from pop and blues to R&B and modern hits. Whether you’re practicing your basics\, experimenting with new moves\, or just soaking in the energy\, this is your space to connect\, groove\, and grow! 🔥💃🕺 \n\n💲 Pricing:\n💰 $15 — Lesson + Social Dance (Cash prices listed are available at the door.)🎓🎖 Student/Veteran Discount: 20% off! Just message us or show your ID at the door. \n\n📌 Want to learn more about West Coast Swing? Check out the details below for more info on our venue\, events\, and the dance itself! 💃✨ \n\n\n					What is West Coast Swing?\n					West coast is a modern swing dance that derives from Lindy Hop and Hustle. It is commonly danced to Pop\, Rock\, Funk\, Blues\, and Jazz. See the following video a great summary. West Coast Swing Video Link\n				\n\n\n					Do you offer beginner lessons?\n					Yes\, beginners are welcome. No experience is required.\n				\n\n\n					Do I need a partner?\n					Nope! Dance partners aren’t necessary for attending our events.\n				\n\n\n					Do I need special shoes?\n					Many dancers wear shoes with velvet or suede bottoms\, but these are not required We recommend flat shoes such as ballet flats\, loafers\, or sneakers with loose grip bottoms\, closed backs\, and laces. Though\, on rainy or snowy days\, we do ask that you bring a separate\, clean pair of shoes to keep our dance floor dry & salt-free.\n				\n\n\n					Is it family-friendly event?\n					Minors (14+ recommended) must be accompanied by an adult 18 years or older and the legal guardian must register on behalf of the minor before participating. We do our best to limit explicit music\, but we cannot guarantee that nothing will slip past. If you are okay with bringing\, and accompanying\, the minor\, we are would love to have you both join us!\n				\n\n\n					Where do I enter?\n					Use “Door 1” — look for our A-frame sign just outside the entrance.\n				\n\n\n					Where do I park?\n					The venue has two dedicated lots accessed from Market Street and the alley\, plus free street parking. During First Fridays in summer\, parking can be more limited — additional street parking may be available a few blocks away\n				\n\n\n					Is it handicap accessible?\n					Yes! If you need handicap access\, please notify us in advance so we can open the accessible entrance in the alley lot. We’re happy to help!\n				\n \n\n 
URL:https://thedancecolab.com/eventcalender/friday-dance-first-law-fundamentals-06-06-2025/
LOCATION:Dance CoLAB\, 201 W Market St\, Columbia City\, IN\, 46725\, United States
CATEGORIES:First Law Fundamentals,Friday Dance Lab
ATTACH;FMTTYPE=image/jpeg:https://thedancecolab.com/wp-content/uploads/2025/03/dance_lab1_First_Law_Fundamentals.jpg
END:VEVENT
BEGIN:VEVENT
DTSTART;TZID=America/Indiana/Indianapolis:20250502T190000
DTEND;TZID=America/Indiana/Indianapolis:20250502T220000
DTSTAMP:20260423T154108
CREATED:20250502T174500Z
LAST-MODIFIED:20250502T174500Z
UID:10000063-1746212400-1746223200@thedancecolab.com
SUMMARY:Friday Dance : First Law Fundamentals 05/02/2025
DESCRIPTION:The best dancers don’t just move — they understand how to stay in motion.\n\nAgenda:\n🕖 7:00 – 8:00pm – West Coast Swing LessonEvery great dancer starts somewhere\, and First Law Fundamentals is your launchpad into the world of West Coast Swing! 🚀 We’ll introduce you to the fundamental physics of WCS\, helping you develop a strong foundation in posture\, connection\, and lead-follow dynamics. Whether you’re taking your first steps or refining your basics\, we’ll give you the tools to build effortless movement and musicality from the ground up. \n✨ No partner? No problem! Come solo or bring a friend — we rotate partners during the lesson\, so everyone gets a chance to dance and connect! 🤝 \n🕗 8:00 – 10:30pm – Social DanceThe floor is yours! 🎶 Put your new skills into action and dance the night away with a welcoming community of Westies. Our DJ spins a vibrant mix of music that keeps you inspired — from pop and blues to R&B and modern hits. Whether you’re practicing your basics\, experimenting with new moves\, or just soaking in the energy\, this is your space to connect\, groove\, and grow! 🔥💃🕺 \n\n💲 Pricing:\n💰 $15 — Lesson + Social Dance (Cash prices listed are available at the door.)🎓🎖 Student/Veteran Discount: 20% off! Just message us or show your ID at the door. \n\n📌 Want to learn more about West Coast Swing? Check out the details below for more info on our venue\, events\, and the dance itself! 💃✨ \n\n\n					What is West Coast Swing?\n					West coast is a modern swing dance that derives from Lindy Hop and Hustle. It is commonly danced to Pop\, Rock\, Funk\, Blues\, and Jazz. See the following video a great summary. West Coast Swing Video Link\n				\n\n\n					Do you offer beginner lessons?\n					Yes\, beginners are welcome. No experience is required.\n				\n\n\n					Do I need a partner?\n					Nope! Dance partners aren’t necessary for attending our events.\n				\n\n\n					Do I need special shoes?\n					Many dancers wear shoes with velvet or suede bottoms\, but these are not required We recommend flat shoes such as ballet flats\, loafers\, or sneakers with loose grip bottoms\, closed backs\, and laces. Though\, on rainy or snowy days\, we do ask that you bring a separate\, clean pair of shoes to keep our dance floor dry & salt-free.\n				\n\n\n					Is it family-friendly event?\n					Minors (14+ recommended) must be accompanied by an adult 18 years or older and the legal guardian must register on behalf of the minor before participating. We do our best to limit explicit music\, but we cannot guarantee that nothing will slip past. If you are okay with bringing\, and accompanying\, the minor\, we are would love to have you both join us!\n				\n\n\n					Where do I enter?\n					Use “Door 1” — look for our A-frame sign just outside the entrance.\n				\n\n\n					Where do I park?\n					The venue has two dedicated lots accessed from Market Street and the alley\, plus free street parking. During First Fridays in summer\, parking can be more limited — additional street parking may be available a few blocks away\n				\n\n\n					Is it handicap accessible?\n					Yes! If you need handicap access\, please notify us in advance so we can open the accessible entrance in the alley lot. We’re happy to help!\n				\n \n\n 
URL:https://thedancecolab.com/eventcalender/friday-dance-first-law-fundamentals-05-02-2025/
LOCATION:Dance CoLAB\, 201 W Market St\, Columbia City\, IN\, 46725\, United States
CATEGORIES:First Law Fundamentals,Friday Dance Lab
ATTACH;FMTTYPE=image/jpeg:https://thedancecolab.com/wp-content/uploads/2025/03/dance_lab1_First_Law_Fundamentals.jpg
END:VEVENT
BEGIN:VEVENT
DTSTART;TZID=America/Indiana/Indianapolis:20250404T190000
DTEND;TZID=America/Indiana/Indianapolis:20250404T223000
DTSTAMP:20260423T154108
CREATED:20250403T012843Z
LAST-MODIFIED:20250403T013554Z
UID:10000058-1743793200-1743805800@thedancecolab.com
SUMMARY:Friday Dance : First Law Fundamentals 04/04/2025
DESCRIPTION:The best dancers don’t just move — they understand how to stay in motion.\n\nAgenda:\n🕖 7:00 – 8:00pm – West Coast Swing LessonEvery great dancer starts somewhere\, and First Law Fundamentals is your launchpad into the world of West Coast Swing! 🚀 We’ll introduce you to the fundamental physics of WCS\, helping you develop a strong foundation in posture\, connection\, and lead-follow dynamics. Whether you’re taking your first steps or refining your basics\, we’ll give you the tools to build effortless movement and musicality from the ground up. \n✨ No partner? No problem! Come solo or bring a friend — we rotate partners during the lesson\, so everyone gets a chance to dance and connect! 🤝 \n🕗 8:00 – 10:30pm – Social DanceThe floor is yours! 🎶 Put your new skills into action and dance the night away with a welcoming community of Westies. Our DJ spins a vibrant mix of music that keeps you inspired — from pop and blues to R&B and modern hits. Whether you’re practicing your basics\, experimenting with new moves\, or just soaking in the energy\, this is your space to connect\, groove\, and grow! 🔥💃🕺 \n\n💲 Pricing:\n💰 $15 — Lesson + Social Dance (Cash prices listed are available at the door.)🎓🎖 Student/Veteran Discount: 20% off! Just message us or show your ID at the door. \n\n📌 Want to learn more about West Coast Swing? Check out the details below for more info on our venue\, events\, and the dance itself! 💃✨ \n\n\n					What is West Coast Swing?\n					West coast is a modern swing dance that derives from Lindy Hop and Hustle. It is commonly danced to Pop\, Rock\, Funk\, Blues\, and Jazz. See the following video a great summary. West Coast Swing Video Link\n				\n\n\n					Do you offer beginner lessons?\n					Yes\, beginners are welcome. No experience is required.\n				\n\n\n					Do I need a partner?\n					Nope! Dance partners aren’t necessary for attending our events.\n				\n\n\n					Do I need special shoes?\n					Many dancers wear shoes with velvet or suede bottoms\, but these are not required We recommend flat shoes such as ballet flats\, loafers\, or sneakers with loose grip bottoms\, closed backs\, and laces. Though\, on rainy or snowy days\, we do ask that you bring a separate\, clean pair of shoes to keep our dance floor dry & salt-free.\n				\n\n\n					Is it family-friendly event?\n					Minors (14+ recommended) must be accompanied by an adult 18 years or older and the legal guardian must register on behalf of the minor before participating. We do our best to limit explicit music\, but we cannot guarantee that nothing will slip past. If you are okay with bringing\, and accompanying\, the minor\, we are would love to have you both join us!\n				\n\n\n					Where do I enter?\n					Use “Door 1” — look for our A-frame sign just outside the entrance.\n				\n\n\n					Where do I park?\n					The venue has two dedicated lots accessed from Market Street and the alley\, plus free street parking. During First Fridays in summer\, parking can be more limited — additional street parking may be available a few blocks away\n				\n\n\n					Is it handicap accessible?\n					Yes! If you need handicap access\, please notify us in advance so we can open the accessible entrance in the alley lot. We’re happy to help!\n				\n \n\n 
URL:https://thedancecolab.com/eventcalender/friday-dance-first-law-fundamentals-04-04-2025/
LOCATION:Dance CoLAB\, 201 W Market St\, Columbia City\, IN\, 46725\, United States
CATEGORIES:First Law Fundamentals,Friday Dance Lab
ATTACH;FMTTYPE=image/jpeg:https://thedancecolab.com/wp-content/uploads/2025/03/dance_lab1_First_Law_Fundamentals.jpg
END:VEVENT
BEGIN:VEVENT
DTSTART;TZID=America/Indiana/Indianapolis:20250307T190000
DTEND;TZID=America/Indiana/Indianapolis:20250307T223000
DTSTAMP:20260423T154108
CREATED:20250312T222003Z
LAST-MODIFIED:20250312T224740Z
UID:10000054-1741374000-1741386600@thedancecolab.com
SUMMARY:Friday Dance : First Law Fundamentals 03/07/2025
DESCRIPTION:The best dancers don’t just move — they understand how to stay in motion.\n\nAgenda:\n🕖 7:00 – 8:00pm – West Coast Swing LessonEvery great dancer starts somewhere\, and First Law Fundamentals is your launchpad into the world of West Coast Swing! 🚀 We’ll introduce you to the fundamental physics of WCS\, helping you develop a strong foundation in posture\, connection\, and lead-follow dynamics. Whether you’re taking your first steps or refining your basics\, we’ll give you the tools to build effortless movement and musicality from the ground up. \n✨ No partner? No problem! Come solo or bring a friend — we rotate partners during the lesson\, so everyone gets a chance to dance and connect! 🤝 \n🕗 8:00 – 10:30pm – Social DanceThe floor is yours! 🎶 Put your new skills into action and dance the night away with a welcoming community of Westies. Our DJ spins a vibrant mix of music that keeps you inspired — from pop and blues to R&B and modern hits. Whether you’re practicing your basics\, experimenting with new moves\, or just soaking in the energy\, this is your space to connect\, groove\, and grow! 🔥💃🕺 \n\n💲 Pricing:\n💰 $15 — Lesson + Social Dance (Cash prices listed are available at the door.)🎓🎖 Student/Veteran Discount: 20% off! Just message us or show your ID at the door. \n\n📌 Want to learn more about West Coast Swing? Check out the details below for more info on our venue\, events\, and the dance itself! 💃✨ \n\n\n					What is West Coast Swing?\n					West coast is a modern swing dance that derives from Lindy Hop and Hustle. It is commonly danced to Pop\, Rock\, Funk\, Blues\, and Jazz. See the following video a great summary. West Coast Swing Video Link\n				\n\n\n					Do you offer beginner lessons?\n					Yes\, beginners are welcome. No experience is required.\n				\n\n\n					Do I need a partner?\n					Nope! Dance partners aren’t necessary for attending our events.\n				\n\n\n					Do I need special shoes?\n					Many dancers wear shoes with velvet or suede bottoms\, but these are not required We recommend flat shoes such as ballet flats\, loafers\, or sneakers with loose grip bottoms\, closed backs\, and laces. Though\, on rainy or snowy days\, we do ask that you bring a separate\, clean pair of shoes to keep our dance floor dry & salt-free.\n				\n\n\n					Is it family-friendly event?\n					Minors (14+ recommended) must be accompanied by an adult 18 years or older and the legal guardian must register on behalf of the minor before participating. We do our best to limit explicit music\, but we cannot guarantee that nothing will slip past. If you are okay with bringing\, and accompanying\, the minor\, we are would love to have you both join us!\n				\n\n\n					Where do I enter?\n					Use “Door 1” — look for our A-frame sign just outside the entrance.\n				\n\n\n					Where do I park?\n					The venue has two dedicated lots accessed from Market Street and the alley\, plus free street parking. During First Fridays in summer\, parking can be more limited — additional street parking may be available a few blocks away\n				\n\n\n					Is it handicap accessible?\n					Yes! If you need handicap access\, please notify us in advance so we can open the accessible entrance in the alley lot. We’re happy to help!\n				\n \n\n 
URL:https://thedancecolab.com/eventcalender/friday-dance-first-law-fundamentals-03-07-2025/
LOCATION:Dance CoLAB\, 201 W Market St\, Columbia City\, IN\, 46725\, United States
CATEGORIES:First Law Fundamentals,Friday Dance Lab
ATTACH;FMTTYPE=image/jpeg:https://thedancecolab.com/wp-content/uploads/2025/03/dance_lab1_First_Law_Fundamentals.jpg
END:VEVENT
END:VCALENDAR