BEGIN:VCALENDAR
VERSION:2.0
PRODID:-//Dance CoLAB - ECPv6.15.20//NONSGML v1.0//EN
CALSCALE:GREGORIAN
METHOD:PUBLISH
X-WR-CALNAME:Dance CoLAB
X-ORIGINAL-URL:https://thedancecolab.com
X-WR-CALDESC:Events for Dance CoLAB
REFRESH-INTERVAL;VALUE=DURATION:PT1H
X-Robots-Tag:noindex
X-PUBLISHED-TTL:PT1H
BEGIN:VTIMEZONE
TZID:America/Indiana/Indianapolis
BEGIN:DAYLIGHT
TZOFFSETFROM:-0500
TZOFFSETTO:-0400
TZNAME:EDT
DTSTART:20240310T070000
END:DAYLIGHT
BEGIN:STANDARD
TZOFFSETFROM:-0400
TZOFFSETTO:-0500
TZNAME:EST
DTSTART:20241103T060000
END:STANDARD
BEGIN:DAYLIGHT
TZOFFSETFROM:-0500
TZOFFSETTO:-0400
TZNAME:EDT
DTSTART:20250309T070000
END:DAYLIGHT
BEGIN:STANDARD
TZOFFSETFROM:-0400
TZOFFSETTO:-0500
TZNAME:EST
DTSTART:20251102T060000
END:STANDARD
BEGIN:DAYLIGHT
TZOFFSETFROM:-0500
TZOFFSETTO:-0400
TZNAME:EDT
DTSTART:20260308T070000
END:DAYLIGHT
BEGIN:STANDARD
TZOFFSETFROM:-0400
TZOFFSETTO:-0500
TZNAME:EST
DTSTART:20261101T060000
END:STANDARD
END:VTIMEZONE
BEGIN:VEVENT
DTSTART;TZID=America/Indiana/Indianapolis:20250425T190000
DTEND;TZID=America/Indiana/Indianapolis:20250425T223000
DTSTAMP:20260423T173059
CREATED:20250403T013355Z
LAST-MODIFIED:20250403T013355Z
UID:10000061-1745607600-1745620200@thedancecolab.com
SUMMARY:Friday Dance Lab: Gravity Games 04/25/2025
DESCRIPTION:🌌 Gravity Games: Where Play Takes the Lead\nPlayful Challenges\, Dynamic Movement\, and a pull you can’t resist. 🌠\n\n📝 Agenda:\n🕖 7:00 – 8:00pm – Dance Games & Interactive challengesGet ready to defy expectations! 🌟 In Gravity Games\, we’re shaking things up with creative\, interactive challenges designed to boost your balance\, control\, and spontaneity. From Steals and Spotlights to Switch Dancing and musicality-driven games\, this class is all about finding your flow while having an absolute blast. Whether you’re honing your technique or diving into something totally new\, you’ll leave with fresh skills and a huge smile. 🎉 \n✨ No partner? No problem! Come solo or bring a friend — we rotate partners during the lesson\, so everyone gets a chance to dance and connect! 🤝 \n🕗 8:00 – 10:30pm – Social Dance + GamesThe games may end\, but the fun keeps going! 🎉 As the night unfolds\, don’t be surprised if a little playful energy from Gravity Games sneaks onto the social dance floor. ✨ Whether it’s spontaneous challenges\, bursts of creativity\, or moments of unexpected magic\, this is your space to connect\, experiment\, and grow. Join us for a night of fun! This event is perfect for trying out new moves or just vibing with the music. 🎶🔥💃🕺 \n\n\n\n💲 Pricing:\n💰 $15 — Lesson + Social Dance (Cash prices listed are available at the door)🎓🎖 Student/Veteran Discount: 20% off! Just message us or show your ID at the door. \n\n\n\n📌 Want to dive deeper into West Coast Swing? Check out the details below for more info on our venue\, events\, and this incredible dance style! 💃✨ \n\n\n					What is West Coast Swing?\n					West coast is a modern swing dance that derives from Lindy Hop and Hustle. It is commonly danced to Pop\, Rock\, Funk\, Blues\, and Jazz. See the following video a great summary. West Coast Swing Video Link\n				\n\n\n					Do you offer beginner lessons?\n					Yes\, beginners are welcome. No experience is required.\n				\n\n\n					Do I need a partner?\n					Nope! Dance partners aren’t necessary for attending our events.\n				\n\n\n					Do I need special shoes?\n					Many dancers wear shoes with velvet or suede bottoms\, but these are not required We recommend flat shoes such as ballet flats\, loafers\, or sneakers with loose grip bottoms\, closed backs\, and laces. Though\, on rainy or snowy days\, we do ask that you bring a separate\, clean pair of shoes to keep our dance floor dry & salt-free.\n				\n\n\n					Is it family-friendly event?\n					Minors (14+ recommended) must be accompanied by an adult 18 years or older and the legal guardian must register on behalf of the minor before participating. We do our best to limit explicit music\, but we cannot guarantee that nothing will slip past. If you are okay with bringing\, and accompanying\, the minor\, we are would love to have you both join us!\n				\n\n\n					Where do I enter?\n					Use “Door 1” — look for our A-frame sign just outside the entrance.\n				\n\n\n					Where do I park?\n					The venue has two dedicated lots accessed from Market Street and the alley\, plus free street parking. During First Fridays in summer\, parking can be more limited — additional street parking may be available a few blocks away\n				\n\n\n					Is it handicap accessible?\n					Yes! If you need handicap access\, please notify us in advance so we can open the accessible entrance in the alley lot. We’re happy to help!\n				\n \n\n 
URL:https://thedancecolab.com/eventcalender/friday-dance-lab-gravity-games-04-25-2025/
LOCATION:Dance CoLAB\, 201 W Market St\, Columbia City\, IN\, 46725\, United States
CATEGORIES:Friday Dance Lab,Gravity Games
ATTACH;FMTTYPE=image/jpeg:https://thedancecolab.com/wp-content/uploads/2025/03/dance_lab4_Gravity_games.jpg
END:VEVENT
BEGIN:VEVENT
DTSTART;TZID=America/Indiana/Indianapolis:20250328T190000
DTEND;TZID=America/Indiana/Indianapolis:20250328T223000
DTSTAMP:20260423T173059
CREATED:20250313T043923Z
LAST-MODIFIED:20250313T213848Z
UID:10000057-1743188400-1743201000@thedancecolab.com
SUMMARY:Friday Dance Lab: Gravity Games 03/28/2025
DESCRIPTION:🌌 Gravity Games: Where Play Takes the Lead\nPlayful Challenges\, Dynamic Movement\, and a pull you can’t resist. 🌠\n\n📝 Agenda:\n🕖 7:00 – 8:00pm – Dance Games & Interactive challengesGet ready to defy expectations! 🌟 In Gravity Games\, we’re shaking things up with creative\, interactive challenges designed to boost your balance\, control\, and spontaneity. From Steals and Spotlights to Switch Dancing and musicality-driven games\, this class is all about finding your flow while having an absolute blast. Whether you’re honing your technique or diving into something totally new\, you’ll leave with fresh skills and a huge smile. 🎉 \n✨ No partner? No problem! Come solo or bring a friend — we rotate partners during the lesson\, so everyone gets a chance to dance and connect! 🤝 \n🕗 8:00 – 10:30pm – Social Dance + GamesThe games may end\, but the fun keeps going! 🎉 As the night unfolds\, don’t be surprised if a little playful energy from Gravity Games sneaks onto the social dance floor. ✨ Whether it’s spontaneous challenges\, bursts of creativity\, or moments of unexpected magic\, this is your space to connect\, experiment\, and grow. Join us for a night of fun! This event is perfect for trying out new moves or just vibing with the music. 🎶🔥💃🕺 \n\n\n\n💲 Pricing:\n💰 $15 — Lesson + Social Dance (Cash prices listed are available at the door)🎓🎖 Student/Veteran Discount: 20% off! Just message us or show your ID at the door. \n\n\n\n📌 Want to dive deeper into West Coast Swing? Check out the details below for more info on our venue\, events\, and this incredible dance style! 💃✨ \n\n\n					What is West Coast Swing?\n					West coast is a modern swing dance that derives from Lindy Hop and Hustle. It is commonly danced to Pop\, Rock\, Funk\, Blues\, and Jazz. See the following video a great summary. West Coast Swing Video Link\n				\n\n\n					Do you offer beginner lessons?\n					Yes\, beginners are welcome. No experience is required.\n				\n\n\n					Do I need a partner?\n					Nope! Dance partners aren’t necessary for attending our events.\n				\n\n\n					Do I need special shoes?\n					Many dancers wear shoes with velvet or suede bottoms\, but these are not required We recommend flat shoes such as ballet flats\, loafers\, or sneakers with loose grip bottoms\, closed backs\, and laces. Though\, on rainy or snowy days\, we do ask that you bring a separate\, clean pair of shoes to keep our dance floor dry & salt-free.\n				\n\n\n					Is it family-friendly event?\n					Minors (14+ recommended) must be accompanied by an adult 18 years or older and the legal guardian must register on behalf of the minor before participating. We do our best to limit explicit music\, but we cannot guarantee that nothing will slip past. If you are okay with bringing\, and accompanying\, the minor\, we are would love to have you both join us!\n				\n\n\n					Where do I enter?\n					Use “Door 1” — look for our A-frame sign just outside the entrance.\n				\n\n\n					Where do I park?\n					The venue has two dedicated lots accessed from Market Street and the alley\, plus free street parking. During First Fridays in summer\, parking can be more limited — additional street parking may be available a few blocks away\n				\n\n\n					Is it handicap accessible?\n					Yes! If you need handicap access\, please notify us in advance so we can open the accessible entrance in the alley lot. We’re happy to help!\n				\n \n\n 
URL:https://thedancecolab.com/eventcalender/friday-dance-lab-gravity-games-03-28-2025/
LOCATION:Dance CoLAB\, 201 W Market St\, Columbia City\, IN\, 46725\, United States
CATEGORIES:Friday Dance Lab,Gravity Games
ATTACH;FMTTYPE=image/jpeg:https://thedancecolab.com/wp-content/uploads/2025/03/dance_lab4_Gravity_games.jpg
END:VEVENT
END:VCALENDAR