BEGIN:VCALENDAR
VERSION:2.0
PRODID:-//Dance CoLAB - ECPv6.15.20//NONSGML v1.0//EN
CALSCALE:GREGORIAN
METHOD:PUBLISH
X-ORIGINAL-URL:https://thedancecolab.com
X-WR-CALDESC:Events for Dance CoLAB
REFRESH-INTERVAL;VALUE=DURATION:PT1H
X-Robots-Tag:noindex
X-PUBLISHED-TTL:PT1H
BEGIN:VTIMEZONE
TZID:America/Indiana/Indianapolis
BEGIN:DAYLIGHT
TZOFFSETFROM:-0500
TZOFFSETTO:-0400
TZNAME:EDT
DTSTART:20240310T070000
END:DAYLIGHT
BEGIN:STANDARD
TZOFFSETFROM:-0400
TZOFFSETTO:-0500
TZNAME:EST
DTSTART:20241103T060000
END:STANDARD
BEGIN:DAYLIGHT
TZOFFSETFROM:-0500
TZOFFSETTO:-0400
TZNAME:EDT
DTSTART:20250309T070000
END:DAYLIGHT
BEGIN:STANDARD
TZOFFSETFROM:-0400
TZOFFSETTO:-0500
TZNAME:EST
DTSTART:20251102T060000
END:STANDARD
BEGIN:DAYLIGHT
TZOFFSETFROM:-0500
TZOFFSETTO:-0400
TZNAME:EDT
DTSTART:20260308T070000
END:DAYLIGHT
BEGIN:STANDARD
TZOFFSETFROM:-0400
TZOFFSETTO:-0500
TZNAME:EST
DTSTART:20261101T060000
END:STANDARD
END:VTIMEZONE
BEGIN:VEVENT
DTSTART;TZID=America/Indiana/Indianapolis:20250613T190000
DTEND;TZID=America/Indiana/Indianapolis:20250613T220000
DTSTAMP:20260423T141924
CREATED:20250603T180943Z
LAST-MODIFIED:20250612T152335Z
UID:10000067-1749841200-1749852000@thedancecolab.com
SUMMARY:Friday Dance Lab: Westie Alchemy 06/13/2025
DESCRIPTION:🧪 Westie Alchemy: Transforming Basics into Art\nThe best dancers don’t just know the steps — they make them magic. ✨\n\n📝 Agenda:\n🕖 7:00 – 8:00pm – West Coast Swing LessonBasics are the building blocks — but how you use them is where the alchemy happens. 🧙‍♂️ In Westie Alchemy\, we take your foundational skills and refine them into smooth\, stylish movement. This class is about blending momentum\, elasticity\, and connection to create an expressive\, effortless dance experience. Whether you’re looking to refine your style\, improve your connection\, or add that extra polish\, this week is all about transforming the ordinary into something extraordinary. 💫 \n✨ No partner? No problem! Come solo or bring a friend — we rotate partners during the lesson\, so everyone gets a chance to dance and connect! 🤝 \n🕗 8:00 – 10:30pm – Social DanceThe floor is yours! 🎶 Put your new skills into action and dance the night away with a welcoming community of Westies. Our DJ spins a vibrant mix of music that keeps you inspired — from pop and blues to R&B and modern hits. Whether you’re refining your style\, trying new moves\, or soaking in the vibe\, this is your space to connect\, groove\, and grow! 🔥💃🕺 \n\n💲 Pricing:\n💰 $15 — Lesson + Social Dance (Cash prices listed are available at the door)🎓🎖 Student/Veteran Discount: 20% off! Just message us or show your ID at the door. \n\n📌 Want to dive deeper into West Coast Swing? Check out the details below for more info on our venue\, events\, and this incredible dance style! 💃✨ \n\n\n					What is West Coast Swing?\n					West coast is a modern swing dance that derives from Lindy Hop and Hustle. It is commonly danced to Pop\, Rock\, Funk\, Blues\, and Jazz. See the following video a great summary. West Coast Swing Video Link\n				\n\n\n					Do you offer beginner lessons?\n					Yes\, beginners are welcome. No experience is required.\n				\n\n\n					Do I need a partner?\n					Nope! Dance partners aren’t necessary for attending our events.\n				\n\n\n					Do I need special shoes?\n					Many dancers wear shoes with velvet or suede bottoms\, but these are not required We recommend flat shoes such as ballet flats\, loafers\, or sneakers with loose grip bottoms\, closed backs\, and laces. Though\, on rainy or snowy days\, we do ask that you bring a separate\, clean pair of shoes to keep our dance floor dry & salt-free.\n				\n\n\n					Is it family-friendly event?\n					Minors (14+ recommended) must be accompanied by an adult 18 years or older and the legal guardian must register on behalf of the minor before participating. We do our best to limit explicit music\, but we cannot guarantee that nothing will slip past. If you are okay with bringing\, and accompanying\, the minor\, we are would love to have you both join us!\n				\n\n\n					Where do I enter?\n					Use “Door 1” — look for our A-frame sign just outside the entrance.\n				\n\n\n					Where do I park?\n					The venue has two dedicated lots accessed from Market Street and the alley\, plus free street parking. During First Fridays in summer\, parking can be more limited — additional street parking may be available a few blocks away\n				\n\n\n					Is it handicap accessible?\n					Yes! If you need handicap access\, please notify us in advance so we can open the accessible entrance in the alley lot. We’re happy to help!\n				\n \n\n 
URL:https://thedancecolab.com/eventcalender/friday-dance-lab-westie-alchemy-06-13-2025/
LOCATION:Dance CoLAB\, 201 W Market St\, Columbia City\, IN\, 46725\, United States
CATEGORIES:Friday Dance Lab,Westie Alchemy (Transforming Basics into Art)
ATTACH;FMTTYPE=image/jpeg:https://thedancecolab.com/wp-content/uploads/2025/03/dance_lab2_Westie_Alchemy.jpg
END:VEVENT
BEGIN:VEVENT
DTSTART;TZID=America/Indiana/Indianapolis:20250516T190000
DTEND;TZID=America/Indiana/Indianapolis:20250516T220000
DTSTAMP:20260423T141924
CREATED:20250502T190956Z
LAST-MODIFIED:20250502T190956Z
UID:10000064-1747422000-1747432800@thedancecolab.com
SUMMARY:Friday Dance Lab: Westie Alchemy 05/16/2025
DESCRIPTION:🧪 Westie Alchemy: Transforming Basics into Art\nThe best dancers don’t just know the steps — they make them magic. ✨\n\n📝 Agenda:\n🕖 7:00 – 8:00pm – West Coast Swing LessonBasics are the building blocks — but how you use them is where the alchemy happens. 🧙‍♂️ In Westie Alchemy\, we take your foundational skills and refine them into smooth\, stylish movement. This class is about blending momentum\, elasticity\, and connection to create an expressive\, effortless dance experience. Whether you’re looking to refine your style\, improve your connection\, or add that extra polish\, this week is all about transforming the ordinary into something extraordinary. 💫 \n✨ No partner? No problem! Come solo or bring a friend — we rotate partners during the lesson\, so everyone gets a chance to dance and connect! 🤝 \n🕗 8:00 – 10:30pm – Social DanceThe floor is yours! 🎶 Put your new skills into action and dance the night away with a welcoming community of Westies. Our DJ spins a vibrant mix of music that keeps you inspired — from pop and blues to R&B and modern hits. Whether you’re refining your style\, trying new moves\, or soaking in the vibe\, this is your space to connect\, groove\, and grow! 🔥💃🕺 \n\n💲 Pricing:\n💰 $15 — Lesson + Social Dance (Cash prices listed are available at the door)🎓🎖 Student/Veteran Discount: 20% off! Just message us or show your ID at the door. \n\n📌 Want to dive deeper into West Coast Swing? Check out the details below for more info on our venue\, events\, and this incredible dance style! 💃✨ \n\n\n					What is West Coast Swing?\n					West coast is a modern swing dance that derives from Lindy Hop and Hustle. It is commonly danced to Pop\, Rock\, Funk\, Blues\, and Jazz. See the following video a great summary. West Coast Swing Video Link\n				\n\n\n					Do you offer beginner lessons?\n					Yes\, beginners are welcome. No experience is required.\n				\n\n\n					Do I need a partner?\n					Nope! Dance partners aren’t necessary for attending our events.\n				\n\n\n					Do I need special shoes?\n					Many dancers wear shoes with velvet or suede bottoms\, but these are not required We recommend flat shoes such as ballet flats\, loafers\, or sneakers with loose grip bottoms\, closed backs\, and laces. Though\, on rainy or snowy days\, we do ask that you bring a separate\, clean pair of shoes to keep our dance floor dry & salt-free.\n				\n\n\n					Is it family-friendly event?\n					Minors (14+ recommended) must be accompanied by an adult 18 years or older and the legal guardian must register on behalf of the minor before participating. We do our best to limit explicit music\, but we cannot guarantee that nothing will slip past. If you are okay with bringing\, and accompanying\, the minor\, we are would love to have you both join us!\n				\n\n\n					Where do I enter?\n					Use “Door 1” — look for our A-frame sign just outside the entrance.\n				\n\n\n					Where do I park?\n					The venue has two dedicated lots accessed from Market Street and the alley\, plus free street parking. During First Fridays in summer\, parking can be more limited — additional street parking may be available a few blocks away\n				\n\n\n					Is it handicap accessible?\n					Yes! If you need handicap access\, please notify us in advance so we can open the accessible entrance in the alley lot. We’re happy to help!\n				\n \n\n 
URL:https://thedancecolab.com/eventcalender/friday-dance-lab-westie-alchemy-05-16-2025/
LOCATION:Dance CoLAB\, 201 W Market St\, Columbia City\, IN\, 46725\, United States
CATEGORIES:Friday Dance Lab,Westie Alchemy (Transforming Basics into Art)
ATTACH;FMTTYPE=image/jpeg:https://thedancecolab.com/wp-content/uploads/2025/03/dance_lab2_Westie_Alchemy.jpg
END:VEVENT
BEGIN:VEVENT
DTSTART;TZID=America/Indiana/Indianapolis:20250411T190000
DTEND;TZID=America/Indiana/Indianapolis:20250411T223000
DTSTAMP:20260423T141924
CREATED:20250403T013035Z
LAST-MODIFIED:20250403T013812Z
UID:10000059-1744398000-1744410600@thedancecolab.com
SUMMARY:Friday Dance Lab: Westie Alchemy 04/11/2025
DESCRIPTION:🧪 Westie Alchemy: Transforming Basics into Art\nThe best dancers don’t just know the steps — they make them magic. ✨\n\n📝 Agenda:\n🕖 7:00 – 8:00pm – West Coast Swing LessonBasics are the building blocks — but how you use them is where the alchemy happens. 🧙‍♂️ In Westie Alchemy\, we take your foundational skills and refine them into smooth\, stylish movement. This class is about blending momentum\, elasticity\, and connection to create an expressive\, effortless dance experience. Whether you’re looking to refine your style\, improve your connection\, or add that extra polish\, this week is all about transforming the ordinary into something extraordinary. 💫 \n✨ No partner? No problem! Come solo or bring a friend — we rotate partners during the lesson\, so everyone gets a chance to dance and connect! 🤝 \n🕗 8:00 – 10:30pm – Social DanceThe floor is yours! 🎶 Put your new skills into action and dance the night away with a welcoming community of Westies. Our DJ spins a vibrant mix of music that keeps you inspired — from pop and blues to R&B and modern hits. Whether you’re refining your style\, trying new moves\, or soaking in the vibe\, this is your space to connect\, groove\, and grow! 🔥💃🕺 \n\n💲 Pricing:\n💰 $15 — Lesson + Social Dance (Cash prices listed are available at the door)🎓🎖 Student/Veteran Discount: 20% off! Just message us or show your ID at the door. \n\n📌 Want to dive deeper into West Coast Swing? Check out the details below for more info on our venue\, events\, and this incredible dance style! 💃✨ \n\n\n					What is West Coast Swing?\n					West coast is a modern swing dance that derives from Lindy Hop and Hustle. It is commonly danced to Pop\, Rock\, Funk\, Blues\, and Jazz. See the following video a great summary. West Coast Swing Video Link\n				\n\n\n					Do you offer beginner lessons?\n					Yes\, beginners are welcome. No experience is required.\n				\n\n\n					Do I need a partner?\n					Nope! Dance partners aren’t necessary for attending our events.\n				\n\n\n					Do I need special shoes?\n					Many dancers wear shoes with velvet or suede bottoms\, but these are not required We recommend flat shoes such as ballet flats\, loafers\, or sneakers with loose grip bottoms\, closed backs\, and laces. Though\, on rainy or snowy days\, we do ask that you bring a separate\, clean pair of shoes to keep our dance floor dry & salt-free.\n				\n\n\n					Is it family-friendly event?\n					Minors (14+ recommended) must be accompanied by an adult 18 years or older and the legal guardian must register on behalf of the minor before participating. We do our best to limit explicit music\, but we cannot guarantee that nothing will slip past. If you are okay with bringing\, and accompanying\, the minor\, we are would love to have you both join us!\n				\n\n\n					Where do I enter?\n					Use “Door 1” — look for our A-frame sign just outside the entrance.\n				\n\n\n					Where do I park?\n					The venue has two dedicated lots accessed from Market Street and the alley\, plus free street parking. During First Fridays in summer\, parking can be more limited — additional street parking may be available a few blocks away\n				\n\n\n					Is it handicap accessible?\n					Yes! If you need handicap access\, please notify us in advance so we can open the accessible entrance in the alley lot. We’re happy to help!\n				\n \n\n 
URL:https://thedancecolab.com/eventcalender/friday-dance-lab-westie-alchemy-04-11-2025/
LOCATION:Dance CoLAB\, 201 W Market St\, Columbia City\, IN\, 46725\, United States
CATEGORIES:Friday Dance Lab,Westie Alchemy (Transforming Basics into Art)
ATTACH;FMTTYPE=image/jpeg:https://thedancecolab.com/wp-content/uploads/2025/03/dance_lab2_Westie_Alchemy.jpg
END:VEVENT
BEGIN:VEVENT
DTSTART;TZID=America/Indiana/Indianapolis:20250314T190000
DTEND;TZID=America/Indiana/Indianapolis:20250314T223000
DTSTAMP:20260423T141924
CREATED:20250312T225930Z
LAST-MODIFIED:20250313T154646Z
UID:10000055-1741978800-1741991400@thedancecolab.com
SUMMARY:Friday Dance Lab: Westie Alchemy 03/14/2025
DESCRIPTION:🧪 Westie Alchemy: Transforming Basics into Art\nThe best dancers don’t just know the steps — they make them magic. ✨\n\n📝 Agenda:\n🕖 7:00 – 8:00pm – West Coast Swing LessonBasics are the building blocks — but how you use them is where the alchemy happens. 🧙‍♂️ In Westie Alchemy\, we take your foundational skills and refine them into smooth\, stylish movement. This class is about blending momentum\, elasticity\, and connection to create an expressive\, effortless dance experience. Whether you’re looking to refine your style\, improve your connection\, or add that extra polish\, this week is all about transforming the ordinary into something extraordinary. 💫 \n✨ No partner? No problem! Come solo or bring a friend — we rotate partners during the lesson\, so everyone gets a chance to dance and connect! 🤝 \n🕗 8:00 – 10:30pm – Social DanceThe floor is yours! 🎶 Put your new skills into action and dance the night away with a welcoming community of Westies. Our DJ spins a vibrant mix of music that keeps you inspired — from pop and blues to R&B and modern hits. Whether you’re refining your style\, trying new moves\, or soaking in the vibe\, this is your space to connect\, groove\, and grow! 🔥💃🕺 \n\n💲 Pricing:\n💰 $15 — Lesson + Social Dance (Cash prices listed are available at the door)🎓🎖 Student/Veteran Discount: 20% off! Just message us or show your ID at the door. \n\n📌 Want to dive deeper into West Coast Swing? Check out the details below for more info on our venue\, events\, and this incredible dance style! 💃✨ \n\n\n					What is West Coast Swing?\n					West coast is a modern swing dance that derives from Lindy Hop and Hustle. It is commonly danced to Pop\, Rock\, Funk\, Blues\, and Jazz. See the following video a great summary. West Coast Swing Video Link\n				\n\n\n					Do you offer beginner lessons?\n					Yes\, beginners are welcome. No experience is required.\n				\n\n\n					Do I need a partner?\n					Nope! Dance partners aren’t necessary for attending our events.\n				\n\n\n					Do I need special shoes?\n					Many dancers wear shoes with velvet or suede bottoms\, but these are not required We recommend flat shoes such as ballet flats\, loafers\, or sneakers with loose grip bottoms\, closed backs\, and laces. Though\, on rainy or snowy days\, we do ask that you bring a separate\, clean pair of shoes to keep our dance floor dry & salt-free.\n				\n\n\n					Is it family-friendly event?\n					Minors (14+ recommended) must be accompanied by an adult 18 years or older and the legal guardian must register on behalf of the minor before participating. We do our best to limit explicit music\, but we cannot guarantee that nothing will slip past. If you are okay with bringing\, and accompanying\, the minor\, we are would love to have you both join us!\n				\n\n\n					Where do I enter?\n					Use “Door 1” — look for our A-frame sign just outside the entrance.\n				\n\n\n					Where do I park?\n					The venue has two dedicated lots accessed from Market Street and the alley\, plus free street parking. During First Fridays in summer\, parking can be more limited — additional street parking may be available a few blocks away\n				\n\n\n					Is it handicap accessible?\n					Yes! If you need handicap access\, please notify us in advance so we can open the accessible entrance in the alley lot. We’re happy to help!\n				\n \n\n 
URL:https://thedancecolab.com/eventcalender/friday-dance-lab-westie-alchemy-03-14-2025/
LOCATION:Dance CoLAB\, 201 W Market St\, Columbia City\, IN\, 46725\, United States
CATEGORIES:Friday Dance Lab,Westie Alchemy (Transforming Basics into Art)
ATTACH;FMTTYPE=image/jpeg:https://thedancecolab.com/wp-content/uploads/2025/03/dance_lab2_Westie_Alchemy.jpg
END:VEVENT
END:VCALENDAR