BEGIN:VCALENDAR
VERSION:2.0
PRODID:-//Dance CoLAB - ECPv6.15.20//NONSGML v1.0//EN
CALSCALE:GREGORIAN
METHOD:PUBLISH
X-ORIGINAL-URL:https://thedancecolab.com
X-WR-CALDESC:Events for Dance CoLAB
REFRESH-INTERVAL;VALUE=DURATION:PT1H
X-Robots-Tag:noindex
X-PUBLISHED-TTL:PT1H
BEGIN:VTIMEZONE
TZID:America/Indiana/Indianapolis
BEGIN:DAYLIGHT
TZOFFSETFROM:-0500
TZOFFSETTO:-0400
TZNAME:EDT
DTSTART:20230312T070000
END:DAYLIGHT
BEGIN:STANDARD
TZOFFSETFROM:-0400
TZOFFSETTO:-0500
TZNAME:EST
DTSTART:20231105T060000
END:STANDARD
BEGIN:DAYLIGHT
TZOFFSETFROM:-0500
TZOFFSETTO:-0400
TZNAME:EDT
DTSTART:20240310T070000
END:DAYLIGHT
BEGIN:STANDARD
TZOFFSETFROM:-0400
TZOFFSETTO:-0500
TZNAME:EST
DTSTART:20241103T060000
END:STANDARD
BEGIN:DAYLIGHT
TZOFFSETFROM:-0500
TZOFFSETTO:-0400
TZNAME:EDT
DTSTART:20250309T070000
END:DAYLIGHT
BEGIN:STANDARD
TZOFFSETFROM:-0400
TZOFFSETTO:-0500
TZNAME:EST
DTSTART:20251102T060000
END:STANDARD
END:VTIMEZONE
BEGIN:VEVENT
DTSTART;TZID=America/Indiana/Indianapolis:20240504T190000
DTEND;TZID=America/Indiana/Indianapolis:20240504T230000
DTSTAMP:20260423T152415
CREATED:20240425T184422Z
LAST-MODIFIED:20240425T185950Z
UID:10000023-1714849200-1714863600@thedancecolab.com
SUMMARY:Westie Lab Swing Social 05/04/2024
DESCRIPTION:Join us for our Westie Lab Swing Social featuring guest instructor Melissa Culbertson!Melissa will be teaching an all-levels workshop from 7-8pm!Social dancing from 8-11pm.Join us for an awesome evening of dancing!No partner or prior experience necessary.\nMay the fourth be with you!!!\n\n\nSee below for some more information on our Venue/events and to learn more about West Coast Swing in General.\n \n\n					What is West Coast Swing?\n					West coast is a modern swing dance that derives from Lindy Hop and Hustle. It is commonly danced to Pop\, Rock\, Funk\, Blues\, and Jazz. See the following video a great summary. https://youtu.be/v4fRV0aG3lc\n				\n\n\n					Do you offer beginner lessons?\n					Yes\, beginners are welcome. No experience is required.\n				\n\n\n					Do I need a partner?\n					Excellent Question! But no\, Dance partners are not required for attending our events.\n				\n\n\n					Do I need special shoes?\n					Many dancers wear shoes with velvet or suede bottoms\, but these are not mandatory. We recommend flat shoes such as ballet flats\, loafers\, or sneakers with loose grip bottoms\, closed backs\, and laces. Though\, on rainy or snowy days\, we do ask that you bring a separate\, clean pair of shoes to keep our dance floor dry & salt-free.\n				\n\n\n					Is it family-friendly event?\n					Minors (14+ recommended) must be accompanied by an adult 18 years or older and the legal guardian must register on behalf of the minor before participating. We do our best to limit explicit music\, but we cannot guarantee that nothing will slip past. If you are okay with bringing\, and accompanying\, the minor\, we are would love to have you both join us!\n				\n\n\n					Where do I enter?\n					The doors to the building are marked with various numbers. “Door 1” is the proper entrance to enter. Look for an A-frame Sign just outside the door to help find the correct door.\n				\n\n\n					Where do I park?\n					The Center has two dedicated lots accessed from Market street and from the alley\, as well as street parking. All are free of charge to our guests. Note: On First Fridays during the Summer months\, parking can be more difficult do to local events. Additional parking may be available on the street a few blocks away if the mentioned lots are full.\n				\n\n\n					Is it handicap accessible?\n					Yes! Notify us in advance to open a handicap door to the building\, accessed from the alley parking lot and we would be glad to help you!
URL:https://thedancecolab.com/eventcalender/westie-lab-swing-social-05-04-2024/
LOCATION:Dance CoLAB\, 201 W Market St\, Columbia City\, IN\, 46725\, United States
CATEGORIES:Westie Lab Swing Social
ATTACH;FMTTYPE=image/webp:https://thedancecolab.com/wp-content/uploads/2024/04/melissa-westie-lab-swing-social-banner.webp
END:VEVENT
BEGIN:VEVENT
DTSTART;TZID=America/Indiana/Indianapolis:20240406T190000
DTEND;TZID=America/Indiana/Indianapolis:20240406T230000
DTSTAMP:20260423T152415
CREATED:20240328T003813Z
LAST-MODIFIED:20240328T004231Z
UID:10000021-1712430000-1712444400@thedancecolab.com
SUMMARY:Westie Lab Swing Social 04/06/2024
DESCRIPTION:Join us for our Saturday Swing Social! Get ready to groove to the beat and show off your moves. Whether you’re a seasoned dancer or just love to let loose\, this in-person event is the perfect opportunity to meet new people and have a blast with a fantastic Guest instructor! Grab your friends and come and join us for a night of music\, laughter\, and non-stop dancing.\n\nAgenda: 7:00 – 8:00pm – West Coast Swing Lesson 8:00 – 11:00pm – Social Dance\nSee below for some more information on our Venue/events and to learn more about West Coast Swing in General.\n \n\n					What is West Coast Swing?\n					West coast is a modern swing dance that derives from Lindy Hop and Hustle. It is commonly danced to Pop\, Rock\, Funk\, Blues\, and Jazz. See the following video a great summary. https://youtu.be/v4fRV0aG3lc\n				\n\n\n					Do you offer beginner lessons?\n					Yes\, beginners are welcome. No experience is required.\n				\n\n\n					Do I need a partner?\n					Excellent Question! But no\, Dance partners are not required for attending our events.\n				\n\n\n					Do I need special shoes?\n					Many dancers wear shoes with velvet or suede bottoms\, but these are not mandatory. We recommend flat shoes such as ballet flats\, loafers\, or sneakers with loose grip bottoms\, closed backs\, and laces. Though\, on rainy or snowy days\, we do ask that you bring a separate\, clean pair of shoes to keep our dance floor dry & salt-free.\n				\n\n\n					Is it family-friendly event?\n					Minors (14+ recommended) must be accompanied by an adult 18 years or older and the legal guardian must register on behalf of the minor before participating. We do our best to limit explicit music\, but we cannot guarantee that nothing will slip past. If you are okay with bringing\, and accompanying\, the minor\, we are would love to have you both join us!\n				\n\n\n					Where do I enter?\n					The doors to the building are marked with various numbers. “Door 1” is the proper entrance to enter. Look for an A-frame Sign just outside the door to help find the correct door.\n				\n\n\n					Where do I park?\n					The Center has two dedicated lots accessed from Market street and from the alley\, as well as street parking. All are free of charge to our guests. Note: On First Fridays during the Summer months\, parking can be more difficult do to local events. Additional parking may be available on the street a few blocks away if the mentioned lots are full.\n				\n\n\n					Is it handicap accessible?\n					Yes! Notify us in advance to open a handicap door to the building\, accessed from the alley parking lot and we would be glad to help you!
URL:https://thedancecolab.com/eventcalender/westie-lab-swing-social-04-06-2024/
LOCATION:Dance CoLAB\, 201 W Market St\, Columbia City\, IN\, 46725\, United States
CATEGORIES:Westie Lab Swing Social
ATTACH;FMTTYPE=image/webp:https://thedancecolab.com/wp-content/uploads/2024/03/Emily_wenger_Westie_Lab_Swing_Social_flyer.webp
END:VEVENT
END:VCALENDAR